BEGIN:VCALENDAR
VERSION:2.0
PRODID:-//Squarespace Inc/Squarespace 6//v6//EN
BEGIN:VEVENT
UID:5cdcb8389140b7b27d5113a4@squarespace.com
DTSTAMP:20190516T012434Z
DTSTART:20190525T020000Z
DTEND:20190525T070000Z
SUMMARY:Croydon Junior Football Clubs' Ladies Day
GEO:-37.734856;145.302727
LOCATION:The Little Vineyard\, 17 Paynes Road\, Chirnside Park\, VIC\, 3116
 \, Australia
END:VEVENT
END:VCALENDAR
