BEGIN:VCALENDAR
VERSION:2.0
PRODID:-//Squarespace Inc/Squarespace 6//v6//EN
BEGIN:VEVENT
UID:5cd9feb6f4e1fc14513736d7@squarespace.com
DTSTAMP:20190730T073656Z
DTSTART:20190615T083000Z
DTEND:20190615T113000Z
SUMMARY:French Bistro Night - SOLD OUT
GEO:-37.734856;145.302727
LOCATION:The Little Vineyard\, 17 Paynes Road\, Chirnside Park\, VIC\, 3116
 \, Australia
END:VEVENT
END:VCALENDAR
