BEGIN:VCALENDAR
VERSION:2.0
PRODID:-//Squarespace Inc/Squarespace 6//v6//EN
BEGIN:VEVENT
UID:5d3ff398d76bc10001d43061@squarespace.com
DTSTAMP:20190926T104203Z
DTSTART:20190817T083000Z
DTEND:20190817T113000Z
SUMMARY:Italian Night
GEO:-37.734856;145.302727
LOCATION:The Little Vineyard\, 17 Paynes Road\, Chirnside Park\, VIC\, 3116
 \, Australia
END:VEVENT
END:VCALENDAR
