BEGIN:VCALENDAR
VERSION:2.0
PRODID:-//Squarespace Inc/Squarespace 6//v6//EN
BEGIN:VEVENT
UID:5caeb2e2fa0d603810e5ef3a@squarespace.com
DTSTAMP:20190510T034229Z
DTSTART:20190512T013000Z
DTEND:20190512T050000Z
SUMMARY:Mother's Day 2019 - SOLD OUT!
GEO:-37.734856;145.302727
LOCATION:The Little Vineyard\, 17 Paynes Road\, Chirnside Park\, VIC\, 3116
 \, Australia
END:VEVENT
END:VCALENDAR
