BEGIN:VCALENDAR
VERSION:2.0
PRODID:-//Squarespace Inc/Squarespace 6//v6//EN
BEGIN:VEVENT
UID:5d8c95fb667f4047f4b04991@squarespace.com
DTSTAMP:20191015T221459Z
DTSTART:20191027T010000Z
DTEND:20191027T050000Z
SUMMARY:Oktoberfeast - cancelled
GEO:-37.734856;145.302727
LOCATION:The Little Vineyard\, 17 Paynes Road\, Chirnside Park\, VIC\, 3116
 \, Australia
END:VEVENT
END:VCALENDAR
